BEGIN:VCALENDAR
VERSION:2.0
PRODID:-//Atomic Athletics - ECPv6.15.20//NONSGML v1.0//EN
CALSCALE:GREGORIAN
METHOD:PUBLISH
X-WR-CALNAME:Atomic Athletics
X-ORIGINAL-URL:https://atomicathleticsutah.com
X-WR-CALDESC:Events for Atomic Athletics
REFRESH-INTERVAL;VALUE=DURATION:PT1H
X-Robots-Tag:noindex
X-PUBLISHED-TTL:PT1H
BEGIN:VTIMEZONE
TZID:America/Denver
BEGIN:DAYLIGHT
TZOFFSETFROM:-0700
TZOFFSETTO:-0600
TZNAME:MDT
DTSTART:20250309T090000
END:DAYLIGHT
BEGIN:STANDARD
TZOFFSETFROM:-0600
TZOFFSETTO:-0700
TZNAME:MST
DTSTART:20251102T080000
END:STANDARD
BEGIN:DAYLIGHT
TZOFFSETFROM:-0700
TZOFFSETTO:-0600
TZNAME:MDT
DTSTART:20260308T090000
END:DAYLIGHT
BEGIN:STANDARD
TZOFFSETFROM:-0600
TZOFFSETTO:-0700
TZNAME:MST
DTSTART:20261101T080000
END:STANDARD
BEGIN:DAYLIGHT
TZOFFSETFROM:-0700
TZOFFSETTO:-0600
TZNAME:MDT
DTSTART:20270314T090000
END:DAYLIGHT
BEGIN:STANDARD
TZOFFSETFROM:-0600
TZOFFSETTO:-0700
TZNAME:MST
DTSTART:20271107T080000
END:STANDARD
END:VTIMEZONE
BEGIN:VEVENT
DTSTART;TZID=America/Denver:20260416T183000
DTEND;TZID=America/Denver:20260416T193000
DTSTAMP:20260423T152330
CREATED:20260107T190535Z
LAST-MODIFIED:20260121T192549Z
UID:4548-1776364200-1776367800@atomicathleticsutah.com
SUMMARY:Too Fired Up or Too Flat? Mastering Arousal Level: For Coaches
DESCRIPTION:Session 11 \nThis is a FREE monthly seminar in partnership with the Healthy Bluffdale Coalition designed to help Mind\, Body\, and Play. No need to RSVP — Just show up and learn with us!
URL:https://atomicathleticsutah.com/event/too-fired-up-or-too-flat-mastering-arousal-level-for-coaches/
LOCATION:Bluffdale City Fire Department\, 14895 Noell Nelson Dr\, Bluffdale\, UT\, 84065\, United States
ATTACH;FMTTYPE=image/png:https://atomicathleticsutah.com/wp-content/uploads/2026/01/Nerves-Anxiety-2.png
END:VEVENT
BEGIN:VEVENT
DTSTART;TZID=America/Denver:20260430T183000
DTEND;TZID=America/Denver:20260430T193000
DTSTAMP:20260423T152330
CREATED:20260107T190643Z
LAST-MODIFIED:20260121T190008Z
UID:4550-1777573800-1777577400@atomicathleticsutah.com
SUMMARY:Healthy Habits for Now and Later: For Youth
DESCRIPTION:Session 12 \nThis is a FREE monthly seminar in partnership with the Healthy Bluffdale Coalition designed to help Mind\, Body\, and Play. No need to RSVP — Just show up and learn with us!
URL:https://atomicathleticsutah.com/event/healthy-habits-for-now-and-later-for-youth/
LOCATION:Bluffdale City Fire Department\, 14895 Noell Nelson Dr\, Bluffdale\, UT\, 84065\, United States
ATTACH;FMTTYPE=image/png:https://atomicathleticsutah.com/wp-content/uploads/2026/01/Nerves-Anxiety-3.png
END:VEVENT
END:VCALENDAR